BEGIN:VCALENDAR
VERSION:2.0
PRODID:-//Troop 117 - ECPv6.15.20//NONSGML v1.0//EN
CALSCALE:GREGORIAN
METHOD:PUBLISH
X-ORIGINAL-URL:https://troop117.org
X-WR-CALDESC:Events for Troop 117
REFRESH-INTERVAL;VALUE=DURATION:PT1H
X-Robots-Tag:noindex
X-PUBLISHED-TTL:PT1H
BEGIN:VTIMEZONE
TZID:America/New_York
BEGIN:DAYLIGHT
TZOFFSETFROM:-0500
TZOFFSETTO:-0400
TZNAME:EDT
DTSTART:20240310T070000
END:DAYLIGHT
BEGIN:STANDARD
TZOFFSETFROM:-0400
TZOFFSETTO:-0500
TZNAME:EST
DTSTART:20241103T060000
END:STANDARD
BEGIN:DAYLIGHT
TZOFFSETFROM:-0500
TZOFFSETTO:-0400
TZNAME:EDT
DTSTART:20250309T070000
END:DAYLIGHT
BEGIN:STANDARD
TZOFFSETFROM:-0400
TZOFFSETTO:-0500
TZNAME:EST
DTSTART:20251102T060000
END:STANDARD
BEGIN:DAYLIGHT
TZOFFSETFROM:-0500
TZOFFSETTO:-0400
TZNAME:EDT
DTSTART:20260308T070000
END:DAYLIGHT
BEGIN:STANDARD
TZOFFSETFROM:-0400
TZOFFSETTO:-0500
TZNAME:EST
DTSTART:20261101T060000
END:STANDARD
BEGIN:DAYLIGHT
TZOFFSETFROM:-0500
TZOFFSETTO:-0400
TZNAME:EDT
DTSTART:20270314T070000
END:DAYLIGHT
BEGIN:STANDARD
TZOFFSETFROM:-0400
TZOFFSETTO:-0500
TZNAME:EST
DTSTART:20271107T060000
END:STANDARD
END:VTIMEZONE
BEGIN:VEVENT
DTSTART;TZID=America/New_York:20251108T083000
DTEND;TZID=America/New_York:20251108T153000
DTSTAMP:20260423T003218
CREATED:20250831T230428Z
LAST-MODIFIED:20250908T023116Z
UID:542-1762590600-1762615800@troop117.org
SUMMARY:Hike
DESCRIPTION:
URL:https://troop117.org/event/hike-at-turkey-creek/
CATEGORIES:Activity
END:VEVENT
BEGIN:VEVENT
DTSTART;TZID=America/New_York:20251108T090000
DTEND;TZID=America/New_York:20251108T120000
DTSTAMP:20260423T003218
CREATED:20250831T230626Z
LAST-MODIFIED:20250831T230626Z
UID:543-1762592400-1762603200@troop117.org
SUMMARY:Scouting For Food
DESCRIPTION:
URL:https://troop117.org/event/scouting-for-food-2/
CATEGORIES:Activity
END:VEVENT
BEGIN:VEVENT
DTSTART;TZID=America/New_York:20251109T173000
DTEND;TZID=America/New_York:20251109T190000
DTSTAMP:20260423T003218
CREATED:20250831T230627Z
LAST-MODIFIED:20250831T230627Z
UID:544-1762709400-1762714800@troop117.org
SUMMARY:Troop Meeting
DESCRIPTION:
URL:https://troop117.org/event/troop-meeting-8/
LOCATION:American Legion Post 117\, 189 Veterans Dr SE\, Palm Bay\, FL\, 32909\, United States
CATEGORIES:Troop Meeting
END:VEVENT
BEGIN:VEVENT
DTSTART;TZID=America/New_York:20251115T080000
DTEND;TZID=America/New_York:20251115T170000
DTSTAMP:20260423T003218
CREATED:20250831T230628Z
LAST-MODIFIED:20250831T230628Z
UID:545-1763193600-1763226000@troop117.org
SUMMARY:Webelos Woods "Mission Mars"
DESCRIPTION:
URL:https://troop117.org/event/webelos-woods-mission-mars/
LOCATION:Malabar Annex Space Force Base\, 5600 Minton Rd\, Palm Bay\, FL\, 32907\, United States
CATEGORIES:Activity
END:VEVENT
BEGIN:VEVENT
DTSTART;TZID=America/New_York:20251116T173000
DTEND;TZID=America/New_York:20251116T190000
DTSTAMP:20260423T003218
CREATED:20250831T230628Z
LAST-MODIFIED:20250831T230628Z
UID:546-1763314200-1763319600@troop117.org
SUMMARY:Troop Meeting
DESCRIPTION:
URL:https://troop117.org/event/troop-meeting-9/
LOCATION:American Legion Post 117\, 189 Veterans Dr SE\, Palm Bay\, FL\, 32909\, United States
CATEGORIES:Troop Meeting
END:VEVENT
BEGIN:VEVENT
DTSTART;TZID=America/New_York:20251121T150000
DTEND;TZID=America/New_York:20251122T090000
DTSTAMP:20260423T003218
CREATED:20250831T230629Z
LAST-MODIFIED:20250908T023002Z
UID:547-1763737200-1763802000@troop117.org
SUMMARY:Activity
DESCRIPTION:
URL:https://troop117.org/event/brevard-zoo-sleep-over/
CATEGORIES:Activity
END:VEVENT
BEGIN:VEVENT
DTSTART;VALUE=DATE:20251123
DTEND;VALUE=DATE:20251124
DTSTAMP:20260423T003218
CREATED:20250831T230957Z
LAST-MODIFIED:20250905T150636Z
UID:548-1763856000-1763942399@troop117.org
SUMMARY:No Troop Meeting
DESCRIPTION:
URL:https://troop117.org/event/troop-meeting-10/
CATEGORIES:Troop Meeting
END:VEVENT
BEGIN:VEVENT
DTSTART;TZID=America/New_York:20251130T173000
DTEND;TZID=America/New_York:20251130T190000
DTSTAMP:20260423T003218
CREATED:20250831T231130Z
LAST-MODIFIED:20250905T150641Z
UID:550-1764523800-1764529200@troop117.org
SUMMARY:No Troop Meeting
DESCRIPTION:
URL:https://troop117.org/event/troop-meeting-11/
CATEGORIES:Troop Meeting
END:VEVENT
BEGIN:VEVENT
DTSTART;TZID=America/New_York:20251205T173000
DTEND;TZID=America/New_York:20251207T090000
DTSTAMP:20260423T003218
CREATED:20250831T231817Z
LAST-MODIFIED:20250831T231817Z
UID:558-1764955800-1765098000@troop117.org
SUMMARY:Fall Camporee
DESCRIPTION:
URL:https://troop117.org/event/fall-camporee/
LOCATION:KARS Park\, Audobon Rd\, Merritt Island\, FL\, 32953\, United States
CATEGORIES:Camp
END:VEVENT
BEGIN:VEVENT
DTSTART;TZID=America/New_York:20251207T173000
DTEND;TZID=America/New_York:20251207T190000
DTSTAMP:20260423T003218
CREATED:20250831T231354Z
LAST-MODIFIED:20250831T231354Z
UID:552-1765128600-1765134000@troop117.org
SUMMARY:Troop Meeting
DESCRIPTION:
URL:https://troop117.org/event/troop-meeting-12/
LOCATION:American Legion Post 117\, 189 Veterans Dr SE\, Palm Bay\, FL\, 32909\, United States
CATEGORIES:Troop Meeting
END:VEVENT
BEGIN:VEVENT
DTSTART;TZID=America/New_York:20251213T100000
DTEND;TZID=America/New_York:20251213T210000
DTSTAMP:20260423T003218
CREATED:20250831T231452Z
LAST-MODIFIED:20250908T022922Z
UID:554-1765620000-1765659600@troop117.org
SUMMARY:Cooking Merit Badge
DESCRIPTION:
URL:https://troop117.org/event/cooking-merit-badge/
CATEGORIES:Activity
END:VEVENT
BEGIN:VEVENT
DTSTART;TZID=America/New_York:20251214T150000
DTEND;TZID=America/New_York:20251214T150000
DTSTAMP:20260423T003218
CREATED:20250831T231605Z
LAST-MODIFIED:20250908T022830Z
UID:556-1765724400-1765724400@troop117.org
SUMMARY:Friendsmas
DESCRIPTION:
URL:https://troop117.org/event/friendsmas/
CATEGORIES:Activity
END:VEVENT
BEGIN:VEVENT
DTSTART;VALUE=DATE:20251221
DTEND;VALUE=DATE:20251222
DTSTAMP:20260423T003218
CREATED:20250905T150620Z
LAST-MODIFIED:20250905T150620Z
UID:563-1766275200-1766361599@troop117.org
SUMMARY:No Troop Meeting
DESCRIPTION:
URL:https://troop117.org/event/no-troop-meeting-3/
CATEGORIES:Troop Meeting
END:VEVENT
BEGIN:VEVENT
DTSTART;TZID=America/New_York:20251227T120000
DTEND;TZID=America/New_York:20251230T120000
DTSTAMP:20260423T003218
CREATED:20250905T150757Z
LAST-MODIFIED:20250908T022758Z
UID:565-1766836800-1767096000@troop117.org
SUMMARY:Winter Camp
DESCRIPTION:
URL:https://troop117.org/event/winter-camp/
CATEGORIES:Camp
END:VEVENT
BEGIN:VEVENT
DTSTART;VALUE=DATE:20251228
DTEND;VALUE=DATE:20251229
DTSTAMP:20260423T003218
CREATED:20250905T150850Z
LAST-MODIFIED:20250905T150850Z
UID:567-1766880000-1766966399@troop117.org
SUMMARY:No Troop Meeting
DESCRIPTION:
URL:https://troop117.org/event/no-troop-meeting-4/
CATEGORIES:Troop Meeting
END:VEVENT
BEGIN:VEVENT
DTSTART;TZID=America/New_York:20260206T160000
DTEND;TZID=America/New_York:20260208T120000
DTSTAMP:20260423T003218
CREATED:20250908T182921Z
LAST-MODIFIED:20250908T182921Z
UID:581-1770393600-1770552000@troop117.org
SUMMARY:Camping
DESCRIPTION:
URL:https://troop117.org/event/camping/
CATEGORIES:Camp
END:VEVENT
BEGIN:VEVENT
DTSTART;TZID=America/New_York:20260313T170000
DTEND;TZID=America/New_York:20260315T120000
DTSTAMP:20260423T003218
CREATED:20250908T183110Z
LAST-MODIFIED:20250908T183110Z
UID:583-1773421200-1773576000@troop117.org
SUMMARY:Camping & Canoe
DESCRIPTION:
URL:https://troop117.org/event/camping-canoe/
CATEGORIES:Activity,Camp
END:VEVENT
BEGIN:VEVENT
DTSTART;VALUE=DATE:20260405
DTEND;VALUE=DATE:20260406
DTSTAMP:20260423T003218
CREATED:20250909T003948Z
LAST-MODIFIED:20250909T004144Z
UID:585-1775347200-1775433599@troop117.org
SUMMARY:No Troop Meeting - Easter
DESCRIPTION:
URL:https://troop117.org/event/no-troop-meeting-easter/
CATEGORIES:Troop Meeting
END:VEVENT
BEGIN:VEVENT
DTSTART;TZID=America/New_York:20260410T170000
DTEND;TZID=America/New_York:20260412T110000
DTSTAMP:20260423T003218
CREATED:20250909T004348Z
LAST-MODIFIED:20250909T004348Z
UID:587-1775840400-1775991600@troop117.org
SUMMARY:Camping and Orienteering
DESCRIPTION:
URL:https://troop117.org/event/camping-and-orienteering/
CATEGORIES:Activity,Camp
END:VEVENT
END:VCALENDAR