BEGIN:VCALENDAR
VERSION:2.0
PRODID:-//Troop 117 - ECPv6.15.20//NONSGML v1.0//EN
CALSCALE:GREGORIAN
METHOD:PUBLISH
X-WR-CALNAME:Troop 117
X-ORIGINAL-URL:https://troop117.org
X-WR-CALDESC:Events for Troop 117
REFRESH-INTERVAL;VALUE=DURATION:PT1H
X-Robots-Tag:noindex
X-PUBLISHED-TTL:PT1H
BEGIN:VTIMEZONE
TZID:America/New_York
BEGIN:DAYLIGHT
TZOFFSETFROM:-0500
TZOFFSETTO:-0400
TZNAME:EDT
DTSTART:20240310T070000
END:DAYLIGHT
BEGIN:STANDARD
TZOFFSETFROM:-0400
TZOFFSETTO:-0500
TZNAME:EST
DTSTART:20241103T060000
END:STANDARD
BEGIN:DAYLIGHT
TZOFFSETFROM:-0500
TZOFFSETTO:-0400
TZNAME:EDT
DTSTART:20250309T070000
END:DAYLIGHT
BEGIN:STANDARD
TZOFFSETFROM:-0400
TZOFFSETTO:-0500
TZNAME:EST
DTSTART:20251102T060000
END:STANDARD
BEGIN:DAYLIGHT
TZOFFSETFROM:-0500
TZOFFSETTO:-0400
TZNAME:EDT
DTSTART:20260308T070000
END:DAYLIGHT
BEGIN:STANDARD
TZOFFSETFROM:-0400
TZOFFSETTO:-0500
TZNAME:EST
DTSTART:20261101T060000
END:STANDARD
END:VTIMEZONE
BEGIN:VEVENT
DTSTART;TZID=America/New_York:20251025T080000
DTEND;TZID=America/New_York:20251025T130000
DTSTAMP:20260423T031613
CREATED:20250831T230425Z
LAST-MODIFIED:20250908T023111Z
UID:538-1761379200-1761397200@troop117.org
SUMMARY:Fishing
DESCRIPTION:
URL:https://troop117.org/event/fishing-at-sebastian-inlet/
CATEGORIES:Activity
END:VEVENT
BEGIN:VEVENT
DTSTART;TZID=America/New_York:20251019T173000
DTEND;TZID=America/New_York:20251019T190000
DTSTAMP:20260423T031613
CREATED:20250831T230412Z
LAST-MODIFIED:20250831T230412Z
UID:537-1760895000-1760900400@troop117.org
SUMMARY:Troop Meeting
DESCRIPTION:
URL:https://troop117.org/event/troop-meeting-5/
LOCATION:American Legion Post 117\, 189 Veterans Dr SE\, Palm Bay\, FL\, 32909\, United States
CATEGORIES:Troop Meeting
END:VEVENT
BEGIN:VEVENT
DTSTART;TZID=America/New_York:20251012T000000
DTEND;TZID=America/New_York:20251012T000000
DTSTAMP:20260423T031613
CREATED:20250831T230412Z
LAST-MODIFIED:20250831T230412Z
UID:536-1760227200-1760227200@troop117.org
SUMMARY:No Troop Meeting
DESCRIPTION:
URL:https://troop117.org/event/no-troop-meeting-2/
CATEGORIES:Troop Meeting
END:VEVENT
BEGIN:VEVENT
DTSTART;TZID=America/New_York:20251010T150000
DTEND;TZID=America/New_York:20251012T110000
DTSTAMP:20260423T031613
CREATED:20250831T230411Z
LAST-MODIFIED:20250908T023206Z
UID:535-1760108400-1760266800@troop117.org
SUMMARY:Camp
DESCRIPTION:
URL:https://troop117.org/event/alexander-springs-campout/
CATEGORIES:Camp
END:VEVENT
BEGIN:VEVENT
DTSTART;TZID=America/New_York:20251005T173000
DTEND;TZID=America/New_York:20251005T190000
DTSTAMP:20260423T031613
CREATED:20250831T230411Z
LAST-MODIFIED:20250831T230411Z
UID:534-1759685400-1759690800@troop117.org
SUMMARY:Troop Meeting
DESCRIPTION:
URL:https://troop117.org/event/troop-meeting-4/
LOCATION:American Legion Post 117\, 189 Veterans Dr SE\, Palm Bay\, FL\, 32909\, United States
CATEGORIES:Troop Meeting
END:VEVENT
BEGIN:VEVENT
DTSTART;TZID=America/New_York:20251004T080000
DTEND;TZID=America/New_York:20251004T170000
DTSTAMP:20260423T031613
CREATED:20250831T230410Z
LAST-MODIFIED:20250908T023215Z
UID:533-1759564800-1759597200@troop117.org
SUMMARY:Cub Family Campout
DESCRIPTION:
URL:https://troop117.org/event/cub-family-campout/
CATEGORIES:Camp
END:VEVENT
BEGIN:VEVENT
DTSTART;TZID=America/New_York:20250928T173000
DTEND;TZID=America/New_York:20250928T190000
DTSTAMP:20260423T031613
CREATED:20250831T230407Z
LAST-MODIFIED:20250908T182659Z
UID:532-1759080600-1759086000@troop117.org
SUMMARY:Troop Meeting / Court of Honor
DESCRIPTION:
URL:https://troop117.org/event/troop-meeting-3/
LOCATION:American Legion Post 117\, 189 Veterans Dr SE\, Palm Bay\, FL\, 32909\, United States
CATEGORIES:Troop Meeting
END:VEVENT
BEGIN:VEVENT
DTSTART;TZID=America/New_York:20250927T100000
DTEND;TZID=America/New_York:20250927T130000
DTSTAMP:20260423T031613
CREATED:20250831T230407Z
LAST-MODIFIED:20250908T023222Z
UID:531-1758967200-1758978000@troop117.org
SUMMARY:Rock Climbing
DESCRIPTION:
URL:https://troop117.org/event/rock-climbing/
CATEGORIES:Activity
END:VEVENT
BEGIN:VEVENT
DTSTART;TZID=America/New_York:20250921T000000
DTEND;TZID=America/New_York:20250921T000000
DTSTAMP:20260423T031613
CREATED:20250831T230406Z
LAST-MODIFIED:20250831T230406Z
UID:530-1758412800-1758412800@troop117.org
SUMMARY:No Troop Meeting
DESCRIPTION:
URL:https://troop117.org/event/no-troop-meeting/
CATEGORIES:Troop Meeting
END:VEVENT
BEGIN:VEVENT
DTSTART;TZID=America/New_York:20250919T180000
DTEND;TZID=America/New_York:20250921T090000
DTSTAMP:20260423T031613
CREATED:20250831T230405Z
LAST-MODIFIED:20250908T023234Z
UID:529-1758304800-1758445200@troop117.org
SUMMARY:Camp
DESCRIPTION:
URL:https://troop117.org/event/troop-camping-camp-oklawaha/
CATEGORIES:Camp
END:VEVENT
BEGIN:VEVENT
DTSTART;TZID=America/New_York:20250914T173000
DTEND;TZID=America/New_York:20250914T190000
DTSTAMP:20260423T031613
CREATED:20250831T230405Z
LAST-MODIFIED:20250831T230405Z
UID:528-1757871000-1757876400@troop117.org
SUMMARY:Troop Meeting
DESCRIPTION:
URL:https://troop117.org/event/troop-meeting-2/
LOCATION:American Legion Post 117\, 189 Veterans Dr SE\, Palm Bay\, FL\, 32909\, United States
CATEGORIES:Troop Meeting
END:VEVENT
BEGIN:VEVENT
DTSTART;TZID=America/New_York:20250912T150000
DTEND;TZID=America/New_York:20250914T150000
DTSTAMP:20260423T031613
CREATED:20250831T223310Z
LAST-MODIFIED:20250908T023240Z
UID:505-1757689200-1757862000@troop117.org
SUMMARY:OA Fall Fellowship
DESCRIPTION:
URL:https://troop117.org/event/oa-fall-fellowship/
CATEGORIES:Camp
END:VEVENT
BEGIN:VEVENT
DTSTART;TZID=America/New_York:20250907T173000
DTEND;TZID=America/New_York:20250907T190000
DTSTAMP:20260423T031613
CREATED:20250831T211708Z
LAST-MODIFIED:20250905T151149Z
UID:466-1757266200-1757271600@troop117.org
SUMMARY:Troop Meeting
DESCRIPTION:
URL:https://troop117.org/event/troop-meeting/
LOCATION:American Legion Post 117\, 189 Veterans Dr SE\, Palm Bay\, FL\, 32909\, United States
CATEGORIES:Troop Meeting
END:VEVENT
END:VCALENDAR